BEGIN:VCALENDAR
VERSION:2.0
PRODID:-//Balfanz Unternehmensentwicklung - ECPv5.10.1//NONSGML v1.0//EN
CALSCALE:GREGORIAN
METHOD:PUBLISH
X-WR-CALNAME:Balfanz Unternehmensentwicklung
X-ORIGINAL-URL:https://www.balfanz-unternehmensentwicklung.de
X-WR-CALDESC:Veranstaltungen für Balfanz Unternehmensentwicklung
BEGIN:VTIMEZONE
TZID:Europe/Paris
BEGIN:DAYLIGHT
TZOFFSETFROM:+0100
TZOFFSETTO:+0200
TZNAME:CEST
DTSTART:20160327T010000
END:DAYLIGHT
BEGIN:STANDARD
TZOFFSETFROM:+0200
TZOFFSETTO:+0100
TZNAME:CET
DTSTART:20161030T010000
END:STANDARD
END:VTIMEZONE
BEGIN:VEVENT
DTSTART;TZID=Europe/Paris:20160503T123000
DTEND;TZID=Europe/Paris:20160503T190000
DTSTAMP:20260422T131329
CREATED:20151018T191349Z
LAST-MODIFIED:20160113T175352Z
UID:1680-1462278600-1462302000@www.balfanz-unternehmensentwicklung.de
SUMMARY:Ulmer Personaler-Tag
DESCRIPTION:Fachkräftemangel\, Wertewandel in der Gesellschaft und demografische Entwicklung sind nur einige Einflussfaktoren\, die sich auf die „Ressource Personal“ auswirken. Die Mitarbeiter sind mehr denn je der entscheidende Erfolgsfaktor im Wettbewerb. Es ist vorrangige Aufgabe\ndes Personalmanagements\, wirksame Rahmenbedingungen zu setzen\, um die richtigen Mitarbeiter zu finden\, binden und zu entwickeln.\nMit dem Ulmer Personaler-Tag schafft die IHK eine Ideenplattform für innovative und in der Praxis erprobte Personalmanagementkonzepte und bietet eine Gelegenheit zum Gedankenaustausch in der Region. \nLassen Sie sich inspirieren!\n \nDas Programm steht Anfang 2016 zur Verfügung.
URL:https://www.balfanz-unternehmensentwicklung.de/seminar-vortrag/ulmer-personaler-tag/
LOCATION:IHK Ulm – Haus der Wirtschaft\, Olgastraße 95-101\, 89073 Ulm
CATEGORIES:Vorträge
ATTACH;FMTTYPE=image/jpeg:https://www.balfanz-unternehmensentwicklung.de/wp-content/uploads/2015/10/Logo-Ulm-Trennungsmanagemen-1.jpg
ORGANIZER;CN="IHK%20Ulm%20%E2%80%93%20Haus%20der%20Wirtschaft":MAILTO:kevin.emmerz@ulm.ihk.de
END:VEVENT
END:VCALENDAR