BEGIN:VCALENDAR
VERSION:2.0
PRODID:-//Balfanz Unternehmensentwicklung - ECPv5.10.1//NONSGML v1.0//EN
CALSCALE:GREGORIAN
METHOD:PUBLISH
X-WR-CALNAME:Balfanz Unternehmensentwicklung
X-ORIGINAL-URL:https://www.balfanz-unternehmensentwicklung.de
X-WR-CALDESC:Veranstaltungen für Balfanz Unternehmensentwicklung
BEGIN:VTIMEZONE
TZID:Europe/Paris
BEGIN:DAYLIGHT
TZOFFSETFROM:+0100
TZOFFSETTO:+0200
TZNAME:CEST
DTSTART:20160327T010000
END:DAYLIGHT
BEGIN:STANDARD
TZOFFSETFROM:+0200
TZOFFSETTO:+0100
TZNAME:CET
DTSTART:20161030T010000
END:STANDARD
END:VTIMEZONE
BEGIN:VEVENT
DTSTART;TZID=Europe/Paris:20160419T080000
DTEND;TZID=Europe/Paris:20160419T160000
DTSTAMP:20260422T144703
CREATED:20151019T114601Z
LAST-MODIFIED:20160114T122738Z
UID:1699-1461052800-1461081600@www.balfanz-unternehmensentwicklung.de
SUMMARY:Trennen statt Kündigen
DESCRIPTION:Konfliktfreies Trennungsmanagement\nDas Konfliktpotenzial bei Kündigungen ist groß und entsprechend häufig werden Anwälte und Gerichte bemüht. Sobald ein Konflikt einmal vor Gericht und damit auch öffentlich ausgetragen wird\, wird die Reputation der am Trennungsprozess Beteiligten beschädigt\, mit erheblichem\nfinanziellem Risiko für den Arbeitgeber. Fehler in der Trennungsmaßnahme führen in die \n \nKonfliktspirale:\nKündigung ⇒ Krankmeldung ⇒ Klage ⇒ Abfindung\nUnternehmen und Unternehmer wollen und müssen sich heute zunehmend positiv darstellen. Sie\nkennen die Bedeutung ihrer Arbeitgebermarke für den weiteren Unternehmenserfolg. Zudem führt der demografische Wandel in Deutschland schon heute zu Engpässen in der Besetzung bei Fach- und Führungskräften. \nNegative Einflüsse vermeiden\nIn der Vermeidung des Konfliktes liegt das Potential erheblich an Kosten einzusparen. \nMit unserem eintägigen Seminar versetzen wir Unternehmen in die Lage\, eine konfliktfreie und selbstverständlich rechtssichere Trennung durchzuführen. Als Spezialist für konfliktfreie Trennungsmaßnahmen bearbeitet der Referent die wichtigsten Stolperfallen von der Planung einer Abbaumaßnahme bis zur Wiederaufnahme des gekündigten Mitarbeiters in ein neues Arbeitsverhältnis. Er zeigt auf\, wie von der Planung einer Einzelkündigung bis hin zur Massenentlassung die Konflikte vermieden bzw. ausgeräumt werden können. Diee Veranstaltung ist praxisorientiert und erfordert keine juristische Ausbildung. \nBesonders intensiv wird die Gestaltung und Durchführung des Trennungsgespräches behandelt. Denn hier wird meist der Konflikt gelegt. \nVorkenntnisse\nKeine juristischen Kenntnisse erforderlich; Führungserfahrung ist hilfreich. \nVeranstaltungsort\nSchulungsgebäude\nFisser & van Doornum (FiDo)\nRaum „Aurich“\, EG links
URL:https://www.balfanz-unternehmensentwicklung.de/seminar-vortrag/trennen-statt-kuendigen-4/
LOCATION:IHK für Ostfriesland und Papenburg\, Ringstraße 43\, 26721 Emden
ATTACH;FMTTYPE=image/jpeg:https://www.balfanz-unternehmensentwicklung.de/wp-content/uploads/2015/10/Logo-IHK-Emden-für-Webseite.jpg
ORGANIZER;CN="IHK%20f%C3%BCr%20Ostfriesland%20u.%20Papenburg":MAILTO:susanne.moderhak@emden.ihk.de
END:VEVENT
END:VCALENDAR